BEGIN:VCALENDAR
VERSION:2.0
BEGIN:VEVENT
DTSTART:20260428T170000Z
DTEND:20260428T190000Z
SUMMARY:Cyber Security for Small Businesses Series - Talk 3: Email & Account Security
LOCATION:Namibia Scientific Society, 110 Robert Mugabe Ave, Windhoek, 10005, Namibia
END:VEVENT
END:VCALENDAR